BEGIN:VCALENDAR
VERSION:2.0
CALSCALE:GREGORIAN
PRODID:-//Diputació de Barcelona//DibaCMS//EN
BEGIN:VEVENT
UID:6481
DTSTAMP:20260419T144031
DTSTART:20260504T183000
DTEND:20260504T193000
SUMMARY:Sessió extra de Ficció en Joc
LOCATION:Major, 3 08233 Vacarisses
METHOD:PUBLISH
X-WR-CALNAME:vacarisses@vacarisses.cat
X-WR-TIMEZONE:Europe/Madrid
DESCRIPTION:
URI:https://www.vacarisses.cat/actualitat/agenda/sessio-extra-de-ficcio-en-joc.html
CLASS:PUBLIC
END:VEVENT
END:VCALENDAR
