BEGIN:VCALENDAR
VERSION:2.0
CALSCALE:GREGORIAN
PRODID:-//Diputació de Barcelona//DibaCMS//EN
BEGIN:VEVENT
UID:6398
DTSTAMP:20260424T162033
DTSTART:20260424T180000
DTEND:20260424T190000
SUMMARY:Taller de costura
LOCATION:Major, 3 08233 Vacarisses
METHOD:PUBLISH
X-WR-CALNAME:vacarisses@vacarisses.cat
X-WR-TIMEZONE:Europe/Madrid
DESCRIPTION:
URI:https://www.vacarisses.cat/actualitat/agenda/taller-de-costura.html
CLASS:PUBLIC
END:VEVENT
END:VCALENDAR
