BEGIN:VCALENDAR
VERSION:2.0
CALSCALE:GREGORIAN
PRODID:-//Diputació de Barcelona//DibaCMS//EN
BEGIN:VEVENT
UID:6396
DTSTAMP:20260423T163727
DTSTART:20260423T173000
DTEND:20260423T193000
SUMMARY:Sant Jordi
LOCATION:Plaça Major 
METHOD:PUBLISH
X-WR-CALNAME:vacarisses@vacarisses.cat
X-WR-TIMEZONE:Europe/Madrid
DESCRIPTION:
URI:https://www.vacarisses.cat/actualitat/agenda/6396-sant-jordi.html
CLASS:PUBLIC
END:VEVENT
END:VCALENDAR
