BEGIN:VCALENDAR
VERSION:2.0
CALSCALE:GREGORIAN
PRODID:-//Diputació de Barcelona//DibaCMS//EN
BEGIN:VEVENT
UID:6394
DTSTAMP:20260420T041813
DTSTART:20260421T173000
DTEND:20260421T183000
SUMMARY:Club de lectura juvenil
LOCATION:Major, 3 08233 Vacarisses
METHOD:PUBLISH
X-WR-CALNAME:vacarisses@vacarisses.cat
X-WR-TIMEZONE:Europe/Madrid
DESCRIPTION:
URI:https://www.vacarisses.cat/actualitat/agenda/6394-club-de-lectura-juvenil.html
CLASS:PUBLIC
END:VEVENT
END:VCALENDAR
