BEGIN:VCALENDAR
VERSION:2.0
CALSCALE:GREGORIAN
PRODID:-//Diputació de Barcelona//DibaCMS//EN
BEGIN:VEVENT
UID:6385
DTSTAMP:20260421T162241
DTSTART:20260425T100000
DTEND:20260425T130000
SUMMARY:Portes obertes escoles bressol
LOCATION:El Cuc i El Xic 
METHOD:PUBLISH
X-WR-CALNAME:vacarisses@vacarisses.cat
X-WR-TIMEZONE:Europe/Madrid
DESCRIPTION:
URI:https://www.vacarisses.cat/actualitat/agenda/6385-portes-obertes-escoles-bressol.html
CLASS:PUBLIC
END:VEVENT
END:VCALENDAR
