BEGIN:VCALENDAR
VERSION:2.0
CALSCALE:GREGORIAN
PRODID:-//Diputació de Barcelona//DibaCMS//EN
BEGIN:VEVENT
UID:6363
DTSTAMP:20260421T110251
DTSTART:20260319T170000
DTEND:20260319T180000
SUMMARY:Taller de cuina
LOCATION:Ctra. de la Bauma, 1 - Al costat de correus 08233 Vacarisses
METHOD:PUBLISH
X-WR-CALNAME:vacarisses@vacarisses.cat
X-WR-TIMEZONE:Europe/Madrid
DESCRIPTION:
URI:https://www.vacarisses.cat/actualitat/agenda/6363-taller-de-cuina.html
CLASS:PUBLIC
END:VEVENT
END:VCALENDAR
