BEGIN:VCALENDAR
VERSION:2.0
CALSCALE:GREGORIAN
PRODID:-//Diputació de Barcelona//DibaCMS//EN
BEGIN:VEVENT
UID:6349
DTSTAMP:20260421T101843
DTSTART:20260331T180000
DTEND:20260331T190000
SUMMARY:Frotagge de Natura
LOCATION:Major, 3 08233 Vacarisses
METHOD:PUBLISH
X-WR-CALNAME:vacarisses@vacarisses.cat
X-WR-TIMEZONE:Europe/Madrid
DESCRIPTION:
URI:https://www.vacarisses.cat/actualitat/agenda/frotagge-de-natura.html
CLASS:PUBLIC
END:VEVENT
END:VCALENDAR
