BEGIN:VCALENDAR
VERSION:2.0
CALSCALE:GREGORIAN
PRODID:-//Diputació de Barcelona//DibaCMS//EN
BEGIN:VEVENT
UID:6159
DTSTAMP:20260421T140940
DTSTART:20251127T190000
DTEND:20251127T210000
SUMMARY:Ple municipal
LOCATION:Sala de Plens de l'Ajuntament 
METHOD:PUBLISH
X-WR-CALNAME:vacarisses@vacarisses.cat
X-WR-TIMEZONE:Europe/Madrid
DESCRIPTION:
URI:https://www.vacarisses.cat/actualitat/agenda/6159-ple-municipal.html
CLASS:PUBLIC
END:VEVENT
END:VCALENDAR
